Workbook
Name ListaAnos: Cálculos!$A$4:$A$14

Sheet Painel
A1: PARECERISTAS AD HOC — REAMD · Painel estatístico 2017–2026
A2: Revista de Ensino em Artes, Moda e Design · distribuição temporal, geográfica e institucional dos avaliadores
B4: Filtrar por ano ⟶ | C4: Todos | D4: ◀ menu pendente: todos os indicadores e gráficos atualizam automaticamente
B6: PARECERES EMITIDOS | D6: PARECERISTAS ÚNICOS | F6: INSTITUIÇÕES | H6: PAÍSES | J6: ESTADOS (BR)
B7: =COUNTIFS(Dados!$A$2:$A$588,IF(Painel!$C$4="Todos","<>",Painel!$C$4)) -> 587 | D7: =ROUND(IF(Painel!$C$4="Todos",SUMPRODUCT(1/COUNTIF(Dados!$I$2:$I$588,Dados!$I$2:$I$588)),SUMPRODUCT((Dados!$A$2:$A$588=Painel!$C$4)/COUNTIFS(Dados!$I$2:$I$588,Dados!$I$2:$I$588,Dados!$A$2:$A$588,Dados!$A$2:$A$588))),0) -> 392 | F7: =COUNTIF(Cálculos!$R$4:$R$171,">0") -> 168 | H7: =COUNTIF(Cálculos!$G$4:$G$11,">0") -> 8 | J7: =COUNTIF(Cálculos!$M$4:$M$25,">0") -> 22
B80: Metodologia: 587 registos válidos (duplicados exatos removidos de 592). UF atribuída pela instituição de vínculo; um registo ambíguo («Pontifícia Universidade Católica», 2022) sem UF. Contagem de pareceristas únicos por nome normalizado. Gráfico anual mostra sempre a série completa; restantes painéis respondem ao seletor C4.

Sheet Dados
A1: Ano | B1: Nome | C1: Instituição (original) | D1: Instituição (normalizada) | E1: País | F1: UF | G1: Estado | H1: Região | I1: NomeChave | J1: InstChave
A2: 2026 | B2: Andrei Galkowski | C2: Universidade do Estado de Santa Catarina (UDESC) | D2: Universidade do Estado de Santa Catarina | E2: Brasil | F2: SC | G2: Santa Catarina | H2: Sul | I2: andrei galkowski | J2: universidade do estado de santa catarina
A3: 2026 | B3: Anelise Zimmermann | C3: Universidade do Estado de Santa Catarina (UDESC) | D3: Universidade do Estado de Santa Catarina | E3: Brasil | F3: SC | G3: Santa Catarina | H3: Sul | I3: anelise zimmermann | J3: universidade do estado de santa catarina
A4: 2026 | B4: Anna de Moraes Silva | C4: Universidade do Estado de Santa Catarina (UDESC) | D4: Universidade do Estado de Santa Catarina | E4: Brasil | F4: SC | G4: Santa Catarina | H4: Sul | I4: anna de moraes silva | J4: universidade do estado de santa catarina
A5: 2026 | B5: Brendon Willian Guedes Barbosa | C5: Universidade Federal do Rio Grande do Sul (UFRGS) | D5: Universidade Federal do Rio Grande do Sul | E5: Brasil | F5: RS | G5: Rio Grande do Sul | H5: Sul | I5: brendon willian guedes barbosa | J5: universidade federal do rio grande do sul
A6: 2026 | B6: Breno Tenório Ramalho de Abreu | C6: Universidade de Brasília (UnB) | D6: Universidade de Brasília | E6: Brasil | F6: DF | G6: Distrito Federal | H6: Centro-Oeste | I6: breno tenorio ramalho de abreu | J6: universidade de brasilia
A7: 2026 | B7: Carolina Bassi de Moura | C7: Universidade Federal do Estado do Rio de Janeiro (UNIRIO) | D7: Universidade Federal do Estado do Rio de Janeiro | E7: Brasil | F7: RJ | G7: Rio de Janeiro | H7: Sudeste | I7: carolina bassi de moura | J7: universidade federal do estado do rio de janeiro
A8: 2026 | B8: Carolina Bustos Raffainer | C8: Escola Superior de Propaganda e Marketing (ESPM) | D8: Escola Superior de Propaganda e Marketing | E8: Brasil | F8: SP | G8: São Paulo | H8: Sudeste | I8: carolina bustos raffainer | J8: escola superior de propaganda e marketing
A9: 2026 | B9: Cibele Sitta | C9: Universidade Estadual de Londrina (UEL) | D9: Universidade Estadual de Londrina | E9: Brasil | F9: PR | G9: Paraná | H9: Sul | I9: cibele sitta | J9: universidade estadual de londrina
A10: 2026 | B10: Claudelino Martins Dias Junior | C10: Universidade Federal de Santa Catarina (UFSC) | D10: Universidade Federal de Santa Catarina | E10: Brasil | F10: SC | G10: Santa Catarina | H10: Sul | I10: claudelino martins dias junior | J10: universidade federal de santa catarina
A11: 2026 | B11: Daniel Keller | C11: Universidade Feevale (FAPERGS/CAPES) | D11: Universidade Feevale | E11: Brasil | F11: RS | G11: Rio Grande do Sul | H11: Sul | I11: daniel keller | J11: universidade feevale
A12: 2026 | B12: Danielle Joia | C12: Instituto Federal de Educação, Ciência e Tecnologia do Ceará (IFCE) | D12: Instituto Federal de Educação, Ciência e Tecnologia do Ceará | E12: Brasil | F12: CE | G12: Ceará | H12: Nordeste | I12: danielle joia | J12: instituto federal de educacao, ciencia e tecnologia do ceara
A13: 2026 | B13: Elisângela Freitas Mathias | C13: Universidade do Estado de Santa Catarina (UDESC) | D13: Universidade do Estado de Santa Catarina | E13: Brasil | F13: SC | G13: Santa Catarina | H13: Sul | I13: elisangela freitas mathias | J13: universidade do estado de santa catarina
... A18: 2026 | B18: Franciele Forcelini | C18: Universidade Federal de Minas Gerais (UFMG) | D18: Universidade Federal de Minas Gerais | E18: Brasil | F18: MG | G18: Minas Gerais | H18: Sudeste | I18: franciele forcelini | J18: universidade federal de minas gerais
A19: 2026 | B19: Isaac William Kerr | C19: Universidad Complutense de Madrid (UCM) | D19: Universidad Complutense de Madrid | E19: Espanha | I19: isaac william kerr | J19: universidad complutense de madrid
A20: 2026 | B20: Isadora Santos Medeiros | C20: Universidade Federal de Goiás (UFG) | D20: Universidade Federal de Goiás | E20: Brasil | F20: GO | G20: Goiás | H20: Centro-Oeste | I20: isadora santos medeiros | J20: universidade federal de goias
A21: 2026 | B21: Jailson Oliveira Sousa | C21: Universidade do Estado de Santa Catarina (UDESC) | D21: Universidade do Estado de Santa Catarina | E21: Brasil | F21: SC | G21: Santa Catarina | H21: Sul | I21: jailson oliveira sousa | J21: universidade do estado de santa catarina
A22: 2026 | B22: Jamilie Santos de Souza | C22: Pontifícia Universidade Católica de São Paulo (PUC-SP) | D22: Pontifícia Universidade Católica de São Paulo | E22: Brasil | F22: SP | G22: São Paulo | H22: Sudeste | I22: jamilie santos de souza | J22: pontificia universidade catolica de sao paulo
A23: 2026 | B23: Janaina Nascimento | C23: Universidade do Estado de Santa Catarina (UDESC) | D23: Universidade do Estado de Santa Catarina | E23: Brasil | F23: SC | G23: Santa Catarina | H23: Sul | I23: janaina nascimento | J23: universidade do estado de santa catarina
A24: 2026 | B24: Joás Coelho | C24: Universidade Federal do Maranhão (UFMA) | D24: Universidade Federal do Maranhão | E24: Brasil | F24: MA | G24: Maranhão | H24: Nordeste | I24: joas coelho | J24: universidade federal do maranhao
A25: 2026 | B25: Joseane Padilha Gonçalves | C25: Secretaria de Educação do Estado do Paraná | D25: Secretaria de Educação do Estado do Paraná | E25: Brasil | F25: PR | G25: Paraná | H25: Sul | I25: joseane padilha goncalves | J25: secretaria de educacao do estado do parana
A26: 2026 | B26: Judite Sanson de Bem | C26: Universidade La Salle (UNILASALLE) | D26: Universidade La Salle | E26: Brasil | F26: RS | G26: Rio Grande do Sul | H26: Sul | I26: judite sanson de bem | J26: universidade la salle
A27: 2026 | B27: Káritha Bernardo de Macedo | C27: Instituto Federal de Santa Catarina – Campus Gaspar (IFSC) | D27: Instituto Federal de Santa Catarina – Campus Gaspar | E27: Brasil | F27: SC | G27: Santa Catarina | H27: Sul | I27: karitha bernardo de macedo | J27: instituto federal de santa catarina – campus gaspar
A28: 2026 | B28: Kellyn Batistela | C28: Universidade do Estado de Santa Catarina (UDESC) | D28: Universidade do Estado de Santa Catarina | E28: Brasil | F28: SC | G28: Santa Catarina | H28: Sul | I28: kellyn batistela | J28: universidade do estado de santa catarina
A29: 2026 | B29: Letícia Debastiani Frana | C29: Universidade Federal de Santa Catarina (UFSC) | D29: Universidade Federal de Santa Catarina | E29: Brasil | F29: SC | G29: Santa Catarina | H29: Sul | I29: leticia debastiani frana | J29: universidade federal de santa catarina
A30: 2026 | B30: Letícia Francez | C30: Universidade do Estado de Santa Catarina (UDESC) | D30: Universidade do Estado de Santa Catarina | E30: Brasil | F30: SC | G30: Santa Catarina | H30: Sul | I30: leticia francez | J30: universidade do estado de santa catarina
A31: 2026 | B31: Leydiane Ribeiro da Conceição | C31: Universidade Federal de Viçosa (UFV) | D31: Universidade Federal de Viçosa | E31: Brasil | F31: MG | G31: Minas Gerais | H31: Sudeste | I31: leydiane ribeiro da conceicao | J31: universidade federal de vicosa
... A45: 2025 | B45: Alison Barbosa de Oliveira | C45: Universidade Federal da Grande Dourados | D45: Universidade Federal da Grande Dourados | E45: Brasil | F45: MS | G45: Mato Grosso do Sul | H45: Centro-Oeste | I45: alison barbosa de oliveira | J45: universidade federal da grande dourados
A46: 2025 | B46: Everton Vieira Barbosa | C46: Université Sorbonne Paris Nord | D46: Université Sorbonne Paris Nord | E46: França | I46: everton vieira barbosa | J46: universite sorbonne paris nord
A47: 2025 | B47: Flávio Glória Caminada Sabrá | C47: Instituto Federal do Rio de Janeiro – Belford Roxo | D47: Instituto Federal do Rio de Janeiro – Belford Roxo | E47: Brasil | F47: RJ | G47: Rio de Janeiro | H47: Sudeste | I47: flavio gloria caminada sabra | J47: instituto federal do rio de janeiro – belford roxo
A48: 2025 | B48: Fuviane Galdino Moreira | C48: Universidade Federal do Rio de Janeiro | D48: Universidade Federal do Rio de Janeiro | E48: Brasil | F48: RJ | G48: Rio de Janeiro | H48: Sudeste | I48: fuviane galdino moreira | J48: universidade federal do rio de janeiro
A49: 2025 | B49: Carolina Morgado Pereira | C49: Universidade Federal do Rio de Janeiro | D49: Universidade Federal do Rio de Janeiro | E49: Brasil | F49: RJ | G49: Rio de Janeiro | H49: Sudeste | I49: carolina morgado pereira | J49: universidade federal do rio de janeiro
A50: 2025 | B50: Vera Felippi | C50: Universidade Federal do Rio Grande do Sul | D50: Universidade Federal do Rio Grande do Sul | E50: Brasil | F50: RS | G50: Rio Grande do Sul | H50: Sul | I50: vera felippi | J50: universidade federal do rio grande do sul
A51: 2025 | B51: Anne Barcellos | C51: Universidade Federal do Estado do Rio de Janeiro | D51: Universidade Federal do Estado do Rio de Janeiro | E51: Brasil | F51: RJ | G51: Rio de Janeiro | H51: Sudeste | I51: anne barcellos | J51: universidade federal do estado do rio de janeiro
A52: 2025 | B52: Patricia Boeira Ferretto | C52: Universidade de Passo Fundo | D52: Universidade de Passo Fundo | E52: Brasil | F52: RS | G52: Rio Grande do Sul | H52: Sul | I52: patricia boeira ferretto | J52: universidade de passo fundo
A53: 2025 | B53: Mara Rúbia Sant’Anna | C53: Universidade do Estado de Santa Catarina | D53: Universidade do Estado de Santa Catarina | E53: Brasil | F53: SC | G53: Santa Catarina | H53: Sul | I53: mara rubia sant’anna | J53: universidade do estado de santa catarina
A54: 2025 | B54: Márcio Soares Lima | C54: Instituto Federal do Maranhão | D54: Instituto Federal do Maranhão | E54: Brasil | F54: MA | G54: Maranhão | H54: Nordeste | I54: marcio soares lima | J54: instituto federal do maranhao
A55: 2025 | B55: Maria Cecília Amaral Pinto | C55: Universidade de São Paulo | D55: Universidade de São Paulo | E55: Brasil | F55: SP | G55: São Paulo | H55: Sudeste | I55: maria cecilia amaral pinto | J55: universidade de sao paulo
A56: 2025 | B56: Maristela Abadia Fernandes Novaes | C56: Universidade Federal de Goiás | D56: Universidade Federal de Goiás | E56: Brasil | F56: GO | G56: Goiás | H56: Centro-Oeste | I56: maristela abadia fernandes novaes | J56: universidade federal de goias
A57: 2025 | B57: Marlene Torrinelli | C57: Universidade do Estado de Santa Catarina | D57: Universidade do Estado de Santa Catarina | E57: Brasil | F57: SC | G57: Santa Catarina | H57: Sul | I57: marlene torrinelli | J57: universidade do estado de santa catarina
...

Sheet Cálculos
A1: Folha auxiliar — tabelas alimentadas pelo seletor de ano do Painel. Não editar.
A3: ListaAnos | C3: Ano | D3: Pareceres | F3: País | G3: Pareceres | I3: Região | J3: Participações | L3: UF | M3: Pareceres | N3: Estado | O3: Região | Q3: Instituição | R3: Pareceres | S3: Pontuação | U3: Top | V3: Instituição | W3: Pareceres
A4: Todos | C4: 2017 | D4: =COUNTIF(Dados!$A$2:$A$588,C4) -> 5 | F4: Brasil | G4: =COUNTIFS(Dados!$E$2:$E$588,F4,Dados!$A$2:$A$588,IF(Painel!$C$4="Todos","<>",Painel!$C$4)) -> 549 | I4: Sudeste | J4: =COUNTIFS(Dados!$H$2:$H$588,I4,Dados!$A$2:$A$588,IF(Painel!$C$4="Todos","<>",Painel!$C$4)) -> 216 | L4: SC | M4: =COUNTIFS(Dados!$F$2:$F$588,L4,Dados!$A$2:$A$588,IF(Painel!$C$4="Todos","<>",Painel!$C$4)) -> 119 | N4: Santa Catarina | O4: Sul | Q4: Anhanguera Salvador | R4: =COUNTIFS(Dados!$D$2:$D$588,Q4,Dados!$A$2:$A$588,IF(Painel!$C$4="Todos","<>",Painel!$C$4)) -> 1 | S4: =R4+(168-ROW())/100000 -> 1.00164 | U4: 1 | V4: =INDEX($Q$4:$Q$171,MATCH(LARGE($S$4:$S$171,1),$S$4:$S$171,0)) -> Universidade do Estado de Santa Catarina | W4: =INDEX($R$4:$R$171,MATCH(LARGE($S$4:$S$171,1),$S$4:$S$171,0)) -> 72
A5: 2017 | C5: 2018 | D5: =COUNTIF(Dados!$A$2:$A$588,C5) -> 16 | F5: Portugal | G5: =COUNTIFS(Dados!$E$2:$E$588,F5,Dados!$A$2:$A$588,IF(Painel!$C$4="Todos","<>",Painel!$C$4)) -> 26 | I5: Sul | J5: =COUNTIFS(Dados!$H$2:$H$588,I5,Dados!$A$2:$A$588,IF(Painel!$C$4="Todos","<>",Painel!$C$4)) -> 203 | L5: SP | M5: =COUNTIFS(Dados!$F$2:$F$588,L5,Dados!$A$2:$A$588,IF(Painel!$C$4="Todos","<>",Painel!$C$4)) -> 114 | N5: São Paulo | O5: Sudeste | Q5: CESAR School | R5: =COUNTIFS(Dados!$D$2:$D$588,Q5,Dados!$A$2:$A$588,IF(Painel!$C$4="Todos","<>",Painel!$C$4)) -> 1 | S5: =R5+(168-ROW())/100000 -> 1.00163 | U5: 2 | V5: =INDEX($Q$4:$Q$171,MATCH(LARGE($S$4:$S$171,2),$S$4:$S$171,0)) -> Universidade de São Paulo | W5: =INDEX($R$4:$R$171,MATCH(LARGE($S$4:$S$171,2),$S$4:$S$171,0)) -> 26
A6: 2018 | C6: 2019 | D6: =COUNTIF(Dados!$A$2:$A$588,C6) -> 24 | F6: Canadá | G6: =COUNTIFS(Dados!$E$2:$E$588,F6,Dados!$A$2:$A$588,IF(Painel!$C$4="Todos","<>",Painel!$C$4)) -> 3 | I6: Nordeste | J6: =COUNTIFS(Dados!$H$2:$H$588,I6,Dados!$A$2:$A$588,IF(Painel!$C$4="Todos","<>",Painel!$C$4)) -> 95 | L6: RJ | M6: =COUNTIFS(Dados!$F$2:$F$588,L6,Dados!$A$2:$A$588,IF(Painel!$C$4="Todos","<>",Painel!$C$4)) -> 56 | N6: Rio de Janeiro | O6: Sudeste | Q6: Centro Federal de Educação Tecnológica Celso Suckow da Fonseca | R6: =COUNTIFS(Dados!$D$2:$D$588,Q6,Dados!$A$2:$A$588,IF(Painel!$C$4="Todos","<>",Painel!$C$4)) -> 1 | S6: =R6+(168-ROW())/100000 -> 1.00162 | U6: 3 | V6: =INDEX($Q$4:$Q$171,MATCH(LARGE($S$4:$S$171,3),$S$4:$S$171,0)) -> Universidade Federal de Pernambuco | W6: =INDEX($R$4:$R$171,MATCH(LARGE($S$4:$S$171,3),$S$4:$S$171,0)) -> 22
A7: 2019 | C7: 2020 | D7: =COUNTIF(Dados!$A$2:$A$588,C7) -> 66 | F7: Espanha | G7: =COUNTIFS(Dados!$E$2:$E$588,F7,Dados!$A$2:$A$588,IF(Painel!$C$4="Todos","<>",Painel!$C$4)) -> 3 | I7: Centro-Oeste | J7: =COUNTIFS(Dados!$H$2:$H$588,I7,Dados!$A$2:$A$588,IF(Painel!$C$4="Todos","<>",Painel!$C$4)) -> 25 | L7: MG | M7: =COUNTIFS(Dados!$F$2:$F$588,L7,Dados!$A$2:$A$588,IF(Painel!$C$4="Todos","<>",Painel!$C$4)) -> 45 | N7: Minas Gerais | O7: Sudeste | Q7: Centro Federal de Educação Tecnológica de Minas Gerais | R7: =COUNTIFS(Dados!$D$2:$D$588,Q7,Dados!$A$2:$A$588,IF(Painel!$C$4="Todos","<>",Painel!$C$4)) -> 1 | S7: =R7+(168-ROW())/100000 -> 1.00161 | U7: 4 | V7: =INDEX($Q$4:$Q$171,MATCH(LARGE($S$4:$S$171,4),$S$4:$S$171,0)) -> Universidade Federal de Santa Catarina | W7: =INDEX($R$4:$R$171,MATCH(LARGE($S$4:$S$171,4),$S$4:$S$171,0)) -> 19
A8: 2020 | C8: 2021 | D8: =COUNTIF(Dados!$A$2:$A$588,C8) -> 80 | F8: França | G8: =COUNTIFS(Dados!$E$2:$E$588,F8,Dados!$A$2:$A$588,IF(Painel!$C$4="Todos","<>",Painel!$C$4)) -> 2 | I8: Norte | J8: =COUNTIFS(Dados!$H$2:$H$588,I8,Dados!$A$2:$A$588,IF(Painel!$C$4="Todos","<>",Painel!$C$4)) -> 9 | L8: RS | M8: =COUNTIFS(Dados!$F$2:$F$588,L8,Dados!$A$2:$A$588,IF(Painel!$C$4="Todos","<>",Painel!$C$4)) -> 44 | N8: Rio Grande do Sul | O8: Sul | Q8: Centro Universitário 7 de Setembro | R8: =COUNTIFS(Dados!$D$2:$D$588,Q8,Dados!$A$2:$A$588,IF(Painel!$C$4="Todos","<>",Painel!$C$4)) -> 1 | S8: =R8+(168-ROW())/100000 -> 1.0016 | U8: 5 | V8: =INDEX($Q$4:$Q$171,MATCH(LARGE($S$4:$S$171,5),$S$4:$S$171,0)) -> Universidade Federal do Ceará | W8: =INDEX($R$4:$R$171,MATCH(LARGE($S$4:$S$171,5),$S$4:$S$171,0)) -> 19
A9: 2021 | C9: 2022 | D9: =COUNTIF(Dados!$A$2:$A$588,C9) -> 116 | F9: Venezuela | G9: =COUNTIFS(Dados!$E$2:$E$588,F9,Dados!$A$2:$A$588,IF(Painel!$C$4="Todos","<>",Painel!$C$4)) -> 2 | L9: PR | M9: =COUNTIFS(Dados!$F$2:$F$588,L9,Dados!$A$2:$A$588,IF(Painel!$C$4="Todos","<>",Painel!$C$4)) -> 40 | N9: Paraná | O9: Sul | Q9: Centro Universitário Ateneu | R9: =COUNTIFS(Dados!$D$2:$D$588,Q9,Dados!$A$2:$A$588,IF(Painel!$C$4="Todos","<>",Painel!$C$4)) -> 1 | S9: =R9+(168-ROW())/100000 -> 1.00159 | U9: 6 | V9: =INDEX($Q$4:$Q$171,MATCH(LARGE($S$4:$S$171,6),$S$4:$S$171,0)) -> Universidade Federal de Juiz de Fora | W9: =INDEX($R$4:$R$171,MATCH(LARGE($S$4:$S$171,6),$S$4:$S$171,0)) -> 18
A10: 2022 | C10: 2023 | D10: =COUNTIF(Dados!$A$2:$A$588,C10) -> 67 | F10: EUA | G10: =COUNTIFS(Dados!$E$2:$E$588,F10,Dados!$A$2:$A$588,IF(Painel!$C$4="Todos","<>",Painel!$C$4)) -> 1 | L10: PE | M10: =COUNTIFS(Dados!$F$2:$F$588,L10,Dados!$A$2:$A$588,IF(Painel!$C$4="Todos","<>",Painel!$C$4)) -> 32 | N10: Pernambuco | O10: Nordeste | Q10: Centro Universitário Barão de Mauá; Faculdade de Educação São Luís | R10: =COUNTIFS(Dados!$D$2:$D$588,Q10,Dados!$A$2:$A$588,IF(Painel!$C$4="Todos","<>",Painel!$C$4)) -> 1 | S10: =R10+(168-ROW())/100000 -> 1.00158 | U10: 7 | V10: =INDEX($Q$4:$Q$171,MATCH(LARGE($S$4:$S$171,7),$S$4:$S$171,0)) -> Universidade Federal do Rio de Janeiro | W10: =INDEX($R$4:$R$171,MATCH(LARGE($S$4:$S$171,7),$S$4:$S$171,0)) -> 15
A11: 2023 | C11: 2024 | D11: =COUNTIF(Dados!$A$2:$A$588,C11) -> 63 | F11: Argentina | G11: =COUNTIFS(Dados!$E$2:$E$588,F11,Dados!$A$2:$A$588,IF(Painel!$C$4="Todos","<>",Painel!$C$4)) -> 1 | L11: CE | M11: =COUNTIFS(Dados!$F$2:$F$588,L11,Dados!$A$2:$A$588,IF(Painel!$C$4="Todos","<>",Painel!$C$4)) -> 24 | N11: Ceará | O11: Nordeste | Q11: Centro Universitário Belas Artes de São Paulo | R11: =COUNTIFS(Dados!$D$2:$D$588,Q11,Dados!$A$2:$A$588,IF(Painel!$C$4="Todos","<>",Painel!$C$4)) -> 4 | S11: =R11+(168-ROW())/100000 -> 4.00157 | U11: 8 | V11: =INDEX($Q$4:$Q$171,MATCH(LARGE($S$4:$S$171,8),$S$4:$S$171,0)) -> Universidade Federal de Goiás | W11: =INDEX($R$4:$R$171,MATCH(LARGE($S$4:$S$171,8),$S$4:$S$171,0)) -> 14
A12: 2024 | C12: 2025 | D12: =COUNTIF(Dados!$A$2:$A$588,C12) -> 107 | L12: GO | M12: =COUNTIFS(Dados!$F$2:$F$588,L12,Dados!$A$2:$A$588,IF(Painel!$C$4="Todos","<>",Painel!$C$4)) -> 17 | N12: Goiás | O12: Centro-Oeste | Q12: Centro Universitário Herminio Ometto de Araras | R12: =COUNTIFS(Dados!$D$2:$D$588,Q12,Dados!$A$2:$A$588,IF(Painel!$C$4="Todos","<>",Painel!$C$4)) -> 1 | S12: =R12+(168-ROW())/100000 -> 1.00156 | U12: 9 | V12: =INDEX($Q$4:$Q$171,MATCH(LARGE($S$4:$S$171,9),$S$4:$S$171,0)) -> Universidade do Minho | W12: =INDEX($R$4:$R$171,MATCH(LARGE($S$4:$S$171,9),$S$4:$S$171,0)) -> 13
A13: 2025 | C13: 2026 | D13: =COUNTIF(Dados!$A$2:$A$588,C13) -> 43 | L13: MA | M13: =COUNTIFS(Dados!$F$2:$F$588,L13,Dados!$A$2:$A$588,IF(Painel!$C$4="Todos","<>",Painel!$C$4)) -> 14 | N13: Maranhão | O13: Nordeste | Q13: Centro Universitário Moura Lacerda | R13: =COUNTIFS(Dados!$D$2:$D$588,Q13,Dados!$A$2:$A$588,IF(Painel!$C$4="Todos","<>",Painel!$C$4)) -> 7 | S13: =R13+(168-ROW())/100000 -> 7.00155 | U13: 10 | V13: =INDEX($Q$4:$Q$171,MATCH(LARGE($S$4:$S$171,10),$S$4:$S$171,0)) -> Universidade Estadual de Londrina | W13: =INDEX($R$4:$R$171,MATCH(LARGE($S$4:$S$171,10),$S$4:$S$171,0)) -> 11
A14: 2026 | L14: BA | M14: =COUNTIFS(Dados!$F$2:$F$588,L14,Dados!$A$2:$A$588,IF(Painel!$C$4="Todos","<>",Painel!$C$4)) -> 12 | N14: Bahia | O14: Nordeste | Q14: Centro Universitário SENAC | R14: =COUNTIFS(Dados!$D$2:$D$588,Q14,Dados!$A$2:$A$588,IF(Painel!$C$4="Todos","<>",Painel!$C$4)) -> 6 | S14: =R14+(168-ROW())/100000 -> 6.00154
L15: PA | M15: =COUNTIFS(Dados!$F$2:$F$588,L15,Dados!$A$2:$A$588,IF(Painel!$C$4="Todos","<>",Painel!$C$4)) -> 6 | N15: Pará | O15: Norte | Q15: Centro Universitário Senac | R15: =COUNTIFS(Dados!$D$2:$D$588,Q15,Dados!$A$2:$A$588,IF(Painel!$C$4="Todos","<>",Painel!$C$4)) -> 6 | S15: =R15+(168-ROW())/100000 -> 6.00153
L16: PI | M16: =COUNTIFS(Dados!$F$2:$F$588,L16,Dados!$A$2:$A$588,IF(Painel!$C$4="Todos","<>",Painel!$C$4)) -> 6 | N16: Piauí | O16: Nordeste | Q16: Centro Universitário Senac - Campus Santo Amaro | R16: =COUNTIFS(Dados!$D$2:$D$588,Q16,Dados!$A$2:$A$588,IF(Painel!$C$4="Todos","<>",Painel!$C$4)) -> 1 | S16: =R16+(168-ROW())/100000 -> 1.00152
L17: MS | M17: =COUNTIFS(Dados!$F$2:$F$588,L17,Dados!$A$2:$A$588,IF(Painel!$C$4="Todos","<>",Painel!$C$4)) -> 4 | N17: Mato Grosso do Sul | O17: Centro-Oeste | Q17: Centro Universitário Senac - Santo Amaro | R17: =COUNTIFS(Dados!$D$2:$D$588,Q17,Dados!$A$2:$A$588,IF(Painel!$C$4="Todos","<>",Painel!$C$4)) -> 1 | S17: =R17+(168-ROW())/100000 -> 1.00151
L18: DF | M18: =COUNTIFS(Dados!$F$2:$F$588,L18,Dados!$A$2:$A$588,IF(Painel!$C$4="Todos","<>",Painel!$C$4)) -> 4 | N18: Distrito Federal | O18: Centro-Oeste | Q18: Centro Universitário UNA | R18: =COUNTIFS(Dados!$D$2:$D$588,Q18,Dados!$A$2:$A$588,IF(Painel!$C$4="Todos","<>",Painel!$C$4)) -> 1 | S18: =R18+(168-ROW())/100000 -> 1.0015
L19: PB | M19: =COUNTIFS(Dados!$F$2:$F$588,L19,Dados!$A$2:$A$588,IF(Painel!$C$4="Todos","<>",Painel!$C$4)) -> 2 | N19: Paraíba | O19: Nordeste | Q19: Centro Universitário em Itu e Salto SP | R19: =COUNTIFS(Dados!$D$2:$D$588,Q19,Dados!$A$2:$A$588,IF(Painel!$C$4="Todos","<>",Painel!$C$4)) -> 1 | S19: =R19+(168-ROW())/100000 -> 1.00149
L20: RN | M20: =COUNTIFS(Dados!$F$2:$F$588,L20,Dados!$A$2:$A$588,IF(Painel!$C$4="Todos","<>",Painel!$C$4)) -> 2 | N20: Rio Grande do Norte | O20: Nordeste | Q20: Centro Universitário para o Desenvolvimento do Alto Vale do Itajaí | R20: =COUNTIFS(Dados!$D$2:$D$588,Q20,Dados!$A$2:$A$588,IF(Painel!$C$4="Todos","<>",Painel!$C$4)) -> 1 | S20: =R20+(168-ROW())/100000 -> 1.00148
L21: AL | M21: =COUNTIFS(Dados!$F$2:$F$588,L21,Dados!$A$2:$A$588,IF(Painel!$C$4="Todos","<>",Painel!$C$4)) -> 2 | N21: Alagoas | O21: Nordeste | Q21: Centro de Pesquisas Sociossemióticas da Pontifícia Universidade Católica de São Paulo | R21: =COUNTIFS(Dados!$D$2:$D$588,Q21,Dados!$A$2:$A$588,IF(Painel!$C$4="Todos","<>",Painel!$C$4)) -> 1 | S21: =R21+(168-ROW())/100000 -> 1.00147
L22: RO | M22: =COUNTIFS(Dados!$F$2:$F$588,L22,Dados!$A$2:$A$588,IF(Painel!$C$4="Todos","<>",Painel!$C$4)) -> 2 | N22: Rondônia | O22: Norte | Q22: Colégio Pedro II | R22: =COUNTIFS(Dados!$D$2:$D$588,Q22,Dados!$A$2:$A$588,IF(Painel!$C$4="Todos","<>",Painel!$C$4)) -> 2 | S22: =R22+(168-ROW())/100000 -> 2.00146
L23: TO | M23: =COUNTIFS(Dados!$F$2:$F$588,L23,Dados!$A$2:$A$588,IF(Painel!$C$4="Todos","<>",Painel!$C$4)) -> 1 | N23: Tocantins | O23: Norte | Q23: Escola Superior de Propaganda e Marketing | R23: =COUNTIFS(Dados!$D$2:$D$588,Q23,Dados!$A$2:$A$588,IF(Painel!$C$4="Todos","<>",Painel!$C$4)) -> 7 | S23: =R23+(168-ROW())/100000 -> 7.00145
L24: SE | M24: =COUNTIFS(Dados!$F$2:$F$588,L24,Dados!$A$2:$A$588,IF(Painel!$C$4="Todos","<>",Painel!$C$4)) -> 1 | N24: Sergipe | O24: Nordeste | Q24: Escola d'Art i Superior de Disseny de València | R24: =COUNTIFS(Dados!$D$2:$D$588,Q24,Dados!$A$2:$A$588,IF(Painel!$C$4="Todos","<>",Painel!$C$4)) -> 1 | S24: =R24+(168-ROW())/100000 -> 1.00144
L25: ES | M25: =COUNTIFS(Dados!$F$2:$F$588,L25,Dados!$A$2:$A$588,IF(Painel!$C$4="Todos","<>",Painel!$C$4)) -> 1 | N25: Espírito Santo | O25: Sudeste | Q25: Escola de Belas Artes da Universidade Federal do Rio de Janeiro | R25: =COUNTIFS(Dados!$D$2:$D$588,Q25,Dados!$A$2:$A$588,IF(Painel!$C$4="Todos","<>",Painel!$C$4)) -> 1 | S25: =R25+(168-ROW())/100000 -> 1.00143
Q26: Escolinha de Arte do Recife | R26: =COUNTIFS(Dados!$D$2:$D$588,Q26,Dados!$A$2:$A$588,IF(Painel!$C$4="Todos","<>",Painel!$C$4)) -> 1 | S26: =R26+(168-ROW())/100000 -> 1.00142
Q27: FACCAT | R27: =COUNTIFS(Dados!$D$2:$D$588,Q27,Dados!$A$2:$A$588,IF(Painel!$C$4="Todos","<>",Painel!$C$4)) -> 2 | S27: =R27+(168-ROW())/100000 -> 2.00141
Q28: Faculdade Cruzeiro do Sul | R28: =COUNTIFS(Dados!$D$2:$D$588,Q28,Dados!$A$2:$A$588,IF(Painel!$C$4="Todos","<>",Painel!$C$4)) -> 1 | S28: =R28+(168-ROW())/100000 -> 1.0014
Q29: Faculdade Integrada de Pernambuco | R29: =COUNTIFS(Dados!$D$2:$D$588,Q29,Dados!$A$2:$A$588,IF(Painel!$C$4="Todos","<>",Painel!$C$4)) -> 1 | S29: =R29+(168-ROW())/100000 -> 1.00139
Q30: Faculdade Integrada de Pernambuco; Faculdade Senac PE | R30: =COUNTIFS(Dados!$D$2:$D$588,Q30,Dados!$A$2:$A$588,IF(Painel!$C$4="Todos","<>",Painel!$C$4)) -> 1 | S30: =R30+(168-ROW())/100000 -> 1.00138
Q31: Faculdade de Belas-Artes da Universidade de Lisboa | R31: =COUNTIFS(Dados!$D$2:$D$588,Q31,Dados!$A$2:$A$588,IF(Painel!$C$4="Todos","<>",Painel!$C$4)) -> 2 | S31: =R31+(168-ROW())/100000 -> 2.00137
Q32: Faculdade de Educação São Luís Secretaria da Educação do Estado de São Paulo | R32: =COUNTIFS(Dados!$D$2:$D$588,Q32,Dados!$A$2:$A$588,IF(Painel!$C$4="Todos","<>",Painel!$C$4)) -> 1 | S32: =R32+(168-ROW())/100000 -> 1.00136
Q33: Faculdade de Ensino Superior do Interior Paulista | R33: =COUNTIFS(Dados!$D$2:$D$588,Q33,Dados!$A$2:$A$588,IF(Painel!$C$4="Todos","<>",Painel!$C$4)) -> 1 | S33: =R33+(168-ROW())/100000 -> 1.00135
Q34: Feevale | R34: =COUNTIFS(Dados!$D$2:$D$588,Q34,Dados!$A$2:$A$588,IF(Painel!$C$4="Todos","<>",Painel!$C$4)) -> 1 | S34: =R34+(168-ROW())/100000 -> 1.00134
Q35: Fundação Armando Álvares Penteado | R35: =COUNTIFS(Dados!$D$2:$D$588,Q35,Dados!$A$2:$A$588,IF(Painel!$C$4="Todos","<>",Painel!$C$4)) -> 1 | S35: =R35+(168-ROW())/100000 -> 1.00133
Q36: Fundação Universidade Regional de Blumenau | R36: =COUNTIFS(Dados!$D$2:$D$588,Q36,Dados!$A$2:$A$588,IF(Painel!$C$4="Todos","<>",Painel!$C$4)) -> 2 | S36: =R36+(168-ROW())/100000 -> 2.00132
Q37: IFSC - Instituto Federal de Santa Catarina | R37: =COUNTIFS(Dados!$D$2:$D$588,Q37,Dados!$A$2:$A$588,IF(Painel!$C$4="Todos","<>",Painel!$C$4)) -> 1 | S37: =R37+(168-ROW())/100000 -> 1.00131
... Q171: Université du Québec à Montréal | R171: =COUNTIFS(Dados!$D$2:$D$588,Q171,Dados!$A$2:$A$588,IF(Painel!$C$4="Todos","<>",Painel!$C$4)) -> 3 | S171: =R171+(168-ROW())/100000 -> 2.99997
